Package: BioTIP Version: 1.12.0 Command: /Library/Frameworks/R.framework/Resources/bin/R CMD build --keep-empty-dirs --no-resave-data BioTIP StartedAt: 2023-04-16 22:10:06 -0400 (Sun, 16 Apr 2023) EndedAt: 2023-04-16 22:12:16 -0400 (Sun, 16 Apr 2023) EllapsedTime: 130.5 seconds RetCode: 0 Status: OK PackageFile: BioTIP_1.12.0.tar.gz PackageFileSize: 8.742 MiB