Package: AnnotationHub Version: 3.6.0 Command: /Library/Frameworks/R.framework/Resources/bin/R CMD build --keep-empty-dirs --no-resave-data AnnotationHub StartedAt: 2023-04-16 19:50:30 -0400 (Sun, 16 Apr 2023) EndedAt: 2023-04-16 19:53:16 -0400 (Sun, 16 Apr 2023) EllapsedTime: 166.3 seconds RetCode: 0 Status: OK PackageFile: AnnotationHub_3.6.0.tar.gz PackageFileSize: 1.02 MiB