Package: AMARETTO Version: 1.14.0 Command: /Library/Frameworks/R.framework/Resources/bin/R CMD build --keep-empty-dirs --no-resave-data AMARETTO StartedAt: 2023-04-16 19:36:21 -0400 (Sun, 16 Apr 2023) EndedAt: 2023-04-16 19:37:23 -0400 (Sun, 16 Apr 2023) EllapsedTime: 61.6 seconds RetCode: 0 Status: OK PackageFile: AMARETTO_1.14.0.tar.gz PackageFileSize: 3.184 MiB