Package: ACME Version: 2.54.0 Command: /Library/Frameworks/R.framework/Resources/bin/R CMD build --keep-empty-dirs --no-resave-data ACME StartedAt: 2023-04-16 19:11:50 -0400 (Sun, 16 Apr 2023) EndedAt: 2023-04-16 19:12:21 -0400 (Sun, 16 Apr 2023) EllapsedTime: 30.7 seconds RetCode: 0 Status: OK PackageFile: ACME_2.54.0.tar.gz PackageFileSize: 9.909 MiB