Package: xcms Version: 3.20.0 Command: /home/biocbuild/bbs-3.16-bioc/R/bin/R CMD check --test-dir=longtests --no-stop-on-test-error --no-codoc --no-examples --no-manual --ignore-vignettes --check-subdirs=no xcms_3.20.0.tar.gz StartedAt: 2023-04-15 08:29:51 -0400 (Sat, 15 Apr 2023) EndedAt: 2023-04-15 08:33:51 -0400 (Sat, 15 Apr 2023) EllapsedTime: 239.5 seconds RetCode: 1 Status: ERROR CheckDir: xcms.Rcheck Warnings: NA