Package: biodb Version: 1.6.1 Command: chmod a+r biodb -R && F:\biocbuild\bbs-3.16-bioc\R\bin\R.exe CMD build --keep-empty-dirs --no-resave-data --no-build-vignettes --no-manual biodb StartedAt: 2023-04-15 08:02:16 -0400 (Sat, 15 Apr 2023) EndedAt: 2023-04-15 08:02:53 -0400 (Sat, 15 Apr 2023) EllapsedTime: 37.0 seconds RetCode: 0 Status: OK PackageFile: biodb_1.6.1.tar.gz PackageFileSize: 342.2 KiB