Package: biodb Version: 1.6.1 Command: /Library/Frameworks/R.framework/Resources/bin/R CMD check --test-dir=longtests --no-stop-on-test-error --no-codoc --no-examples --no-manual --ignore-vignettes --check-subdirs=no biodb_1.6.1.tar.gz StartedAt: 2023-04-15 08:01:34 -0400 (Sat, 15 Apr 2023) EndedAt: 2023-04-15 08:05:02 -0400 (Sat, 15 Apr 2023) EllapsedTime: 207.7 seconds RetCode: 0 Status: OK CheckDir: biodb.Rcheck Warnings: 0