Package: biodb Version: 1.6.1 Command: /Library/Frameworks/R.framework/Resources/bin/R CMD build --keep-empty-dirs --no-resave-data --no-build-vignettes --no-manual biodb StartedAt: 2023-04-15 08:00:36 -0400 (Sat, 15 Apr 2023) EndedAt: 2023-04-15 08:00:44 -0400 (Sat, 15 Apr 2023) EllapsedTime: 7.3 seconds RetCode: 0 Status: OK PackageFile: biodb_1.6.1.tar.gz PackageFileSize: 342.3 KiB