Package: beachmat Version: 2.14.2 Command: F:\biocbuild\bbs-3.16-bioc\R\bin\R.exe CMD check --no-multiarch --test-dir=longtests --no-stop-on-test-error --no-codoc --no-examples --no-manual --ignore-vignettes --check-subdirs=no beachmat_2.14.2.tar.gz StartedAt: 2023-04-15 08:04:43 -0400 (Sat, 15 Apr 2023) EndedAt: 2023-04-15 08:23:42 -0400 (Sat, 15 Apr 2023) EllapsedTime: 1138.7 seconds RetCode: 1 Status: ERROR CheckDir: beachmat.Rcheck Warnings: NA