Package: beachmat Version: 2.14.2 Command: chmod a+r beachmat -R && F:\biocbuild\bbs-3.16-bioc\R\bin\R.exe CMD build --keep-empty-dirs --no-resave-data --no-build-vignettes --no-manual beachmat StartedAt: 2023-04-15 08:02:16 -0400 (Sat, 15 Apr 2023) EndedAt: 2023-04-15 08:02:49 -0400 (Sat, 15 Apr 2023) EllapsedTime: 32.0 seconds RetCode: 0 Status: OK PackageFile: beachmat_2.14.2.tar.gz PackageFileSize: 156.1 KiB