Package: autonomics Version: 1.6.0 Command: /Library/Frameworks/R.framework/Resources/bin/R CMD build --keep-empty-dirs --no-resave-data --no-build-vignettes --no-manual autonomics StartedAt: 2023-04-15 08:00:36 -0400 (Sat, 15 Apr 2023) EndedAt: 2023-04-15 08:00:40 -0400 (Sat, 15 Apr 2023) EllapsedTime: 3.2 seconds RetCode: 0 Status: OK PackageFile: autonomics_1.6.0.tar.gz PackageFileSize: 102.6 KiB