Package: HDF5Array Version: 1.26.0 Command: F:\biocbuild\bbs-3.16-bioc\R\bin\R.exe CMD check --no-multiarch --test-dir=longtests --no-stop-on-test-error --no-codoc --no-examples --no-manual --ignore-vignettes --check-subdirs=no HDF5Array_1.26.0.tar.gz StartedAt: 2023-04-15 08:31:39 -0400 (Sat, 15 Apr 2023) EndedAt: 2023-04-15 08:39:02 -0400 (Sat, 15 Apr 2023) EllapsedTime: 443.5 seconds RetCode: 1 Status: ERROR CheckDir: HDF5Array.Rcheck Warnings: NA