Package: zenith Version: 1.0.2 Command: /Library/Frameworks/R.framework/Resources/bin/R CMD check --install=check:zenith.install-out.txt --library=/Library/Frameworks/R.framework/Resources/library --no-vignettes --timings zenith_1.0.2.tar.gz StartedAt: 2023-04-10 23:22:35 -0400 (Mon, 10 Apr 2023) EndedAt: 2023-04-10 23:25:57 -0400 (Mon, 10 Apr 2023) EllapsedTime: 202.0 seconds RetCode: 0 Status: WARNINGS CheckDir: zenith.Rcheck Warnings: 2