Package: zenith Version: 1.0.2 Command: rm -rf zenith.buildbin-libdir && mkdir zenith.buildbin-libdir && /Users/biocbuild/BBS/utils/build-universal.sh zenith_1.0.2.tar.gz /Library/Frameworks/R.framework/Resources/bin/R zenith.buildbin-libdir StartedAt: 2023-04-11 00:10:51 -0400 (Tue, 11 Apr 2023) EndedAt: 2023-04-11 00:11:22 -0400 (Tue, 11 Apr 2023) EllapsedTime: 31.6 seconds RetCode: 0 Status: OK PackageFile: zenith_1.0.2.tgz PackageFileSize: 686 KiB