Package: wppi Version: 1.6.0 Command: rm -rf wppi.buildbin-libdir && mkdir wppi.buildbin-libdir && F:\biocbuild\bbs-3.16-bioc\R\bin\R.exe CMD INSTALL --build --library=wppi.buildbin-libdir wppi_1.6.0.tar.gz StartedAt: 2023-04-11 08:58:54 -0400 (Tue, 11 Apr 2023) EndedAt: 2023-04-11 08:59:22 -0400 (Tue, 11 Apr 2023) EllapsedTime: 27.3 seconds RetCode: 0 Status: OK PackageFile: wppi_1.6.0.zip PackageFileSize: 301.8 KiB