Package: wateRmelon Version: 2.4.0 Command: chmod a+r wateRmelon -R && F:\biocbuild\bbs-3.16-bioc\R\bin\R.exe CMD build --keep-empty-dirs --no-resave-data wateRmelon StartedAt: 2023-04-10 22:20:15 -0400 (Mon, 10 Apr 2023) EndedAt: 2023-04-10 22:21:55 -0400 (Mon, 10 Apr 2023) EllapsedTime: 99.4 seconds RetCode: 0 Status: OK PackageFile: wateRmelon_2.4.0.tar.gz PackageFileSize: 3.211 MiB