Package: vsn Version: 3.66.0 Command: chmod a+r vsn -R && F:\biocbuild\bbs-3.16-bioc\R\bin\R.exe CMD build --keep-empty-dirs --no-resave-data vsn StartedAt: 2023-04-10 22:19:31 -0400 (Mon, 10 Apr 2023) EndedAt: 2023-04-10 22:20:43 -0400 (Mon, 10 Apr 2023) EllapsedTime: 72.4 seconds RetCode: 0 Status: OK PackageFile: vsn_3.66.0.tar.gz PackageFileSize: 1.305 MiB