Package: vsn Version: 3.66.0 Command: /home/biocbuild/bbs-3.16-bioc/R/bin/R CMD INSTALL vsn StartedAt: 2023-04-10 15:11:55 -0400 (Mon, 10 Apr 2023) EndedAt: 2023-04-10 15:12:13 -0400 (Mon, 10 Apr 2023) EllapsedTime: 17.9 seconds RetCode: 0 Status: OK