Package: triplex Version: 1.38.0 Command: F:\biocbuild\bbs-3.16-bioc\R\bin\R.exe CMD check --no-multiarch --install=check:triplex.install-out.txt --library=F:\biocbuild\bbs-3.16-bioc\R\library --no-vignettes --timings triplex_1.38.0.tar.gz StartedAt: 2023-04-11 06:58:39 -0400 (Tue, 11 Apr 2023) EndedAt: 2023-04-11 07:00:12 -0400 (Tue, 11 Apr 2023) EllapsedTime: 92.7 seconds RetCode: 0 Status: WARNINGS CheckDir: triplex.Rcheck Warnings: 1