Package: trio Version: 3.36.0 Command: /home/biocbuild/bbs-3.16-bioc/R/bin/R CMD check --install=check:trio.install-out.txt --library=/home/biocbuild/bbs-3.16-bioc/R/site-library --timings trio_3.36.0.tar.gz StartedAt: 2023-04-11 00:40:16 -0400 (Tue, 11 Apr 2023) EndedAt: 2023-04-11 00:43:31 -0400 (Tue, 11 Apr 2023) EllapsedTime: 195.1 seconds RetCode: 0 Status: OK CheckDir: trio.Rcheck Warnings: 0