Package: transomics2cytoscape Version: 1.8.0 Command: chmod a+r transomics2cytoscape -R && F:\biocbuild\bbs-3.16-bioc\R\bin\R.exe CMD build --keep-empty-dirs --no-resave-data transomics2cytoscape StartedAt: 2023-04-10 22:09:13 -0400 (Mon, 10 Apr 2023) EndedAt: 2023-04-10 22:09:32 -0400 (Mon, 10 Apr 2023) EllapsedTime: 19.1 seconds RetCode: 0 Status: OK PackageFile: transomics2cytoscape_1.8.0.tar.gz PackageFileSize: 8.403 MiB