Package: transomics2cytoscape Version: 1.8.0 Command: /Library/Frameworks/R.framework/Resources/bin/R CMD INSTALL transomics2cytoscape StartedAt: 2023-04-10 15:11:28 -0400 (Mon, 10 Apr 2023) EndedAt: 2023-04-10 15:11:34 -0400 (Mon, 10 Apr 2023) EllapsedTime: 5.6 seconds RetCode: 0 Status: OK