Package: ternarynet Version: 1.41.0 Command: /Library/Frameworks/R.framework/Resources/bin/R CMD INSTALL ternarynet StartedAt: 2022-07-10 16:50:43 -0400 (Sun, 10 Jul 2022) EndedAt: 2022-07-10 16:51:00 -0400 (Sun, 10 Jul 2022) EllapsedTime: 17.1 seconds RetCode: 0 Status: OK