Package: ternarynet Version: 1.41.0 Command: rm -rf ternarynet.buildbin-libdir && mkdir ternarynet.buildbin-libdir && /Users/biocbuild/BBS/utils/build-universal.sh ternarynet_1.41.0.tar.gz /Library/Frameworks/R.framework/Resources/bin/R ternarynet.buildbin-libdir StartedAt: 2022-07-07 09:20:40 -0400 (Thu, 07 Jul 2022) EndedAt: 2022-07-07 09:21:03 -0400 (Thu, 07 Jul 2022) EllapsedTime: 22.8 seconds RetCode: 1 Status: ERROR PackageFile: None PackageFileSize: NA