Package: svaNUMT Version: 1.4.0 Command: chmod a+r svaNUMT -R && F:\biocbuild\bbs-3.16-bioc\R\bin\R.exe CMD build --keep-empty-dirs --no-resave-data svaNUMT StartedAt: 2023-04-10 21:59:28 -0400 (Mon, 10 Apr 2023) EndedAt: 2023-04-10 22:00:45 -0400 (Mon, 10 Apr 2023) EllapsedTime: 76.5 seconds RetCode: 0 Status: OK PackageFile: svaNUMT_1.4.0.tar.gz PackageFileSize: 687.3 KiB