Package: svaNUMT Version: 1.4.0 Command: rm -rf svaNUMT.buildbin-libdir && mkdir svaNUMT.buildbin-libdir && /Users/biocbuild/BBS/utils/build-universal.sh svaNUMT_1.4.0.tar.gz /Library/Frameworks/R.framework/Resources/bin/R svaNUMT.buildbin-libdir StartedAt: 2023-04-11 00:07:55 -0400 (Tue, 11 Apr 2023) EndedAt: 2023-04-11 00:08:47 -0400 (Tue, 11 Apr 2023) EllapsedTime: 51.2 seconds RetCode: 0 Status: OK PackageFile: svaNUMT_1.4.0.tgz PackageFileSize: 656.8 KiB