Package: ssviz Version: 1.32.0 Command: chmod a+r ssviz -R && F:\biocbuild\bbs-3.16-bioc\R\bin\R.exe CMD build --keep-empty-dirs --no-resave-data ssviz StartedAt: 2023-04-10 21:55:12 -0400 (Mon, 10 Apr 2023) EndedAt: 2023-04-10 21:55:44 -0400 (Mon, 10 Apr 2023) EllapsedTime: 32.6 seconds RetCode: 0 Status: OK PackageFile: ssviz_1.32.0.tar.gz PackageFileSize: 1012 KiB