Package: ssviz Version: 1.31.0 Command: /Library/Frameworks/R.framework/Resources/bin/R CMD build --keep-empty-dirs --no-resave-data ssviz StartedAt: 2022-07-07 05:51:09 -0400 (Thu, 07 Jul 2022) EndedAt: 2022-07-07 05:51:39 -0400 (Thu, 07 Jul 2022) EllapsedTime: 29.7 seconds RetCode: 0 Status: OK PackageFile: ssviz_1.31.0.tar.gz PackageFileSize: 1.152 MiB