Package: splineTimeR Version: 1.25.0 Command: rm -rf splineTimeR.buildbin-libdir && mkdir splineTimeR.buildbin-libdir && /Users/biocbuild/BBS/utils/build-universal.sh splineTimeR_1.25.0.tar.gz /Library/Frameworks/R.framework/Resources/bin/R splineTimeR.buildbin-libdir StartedAt: 2022-07-07 09:16:18 -0400 (Thu, 07 Jul 2022) EndedAt: 2022-07-07 09:16:51 -0400 (Thu, 07 Jul 2022) EllapsedTime: 32.6 seconds RetCode: 0 Status: OK PackageFile: splineTimeR_1.25.0.tgz PackageFileSize: 1.265 MiB