Package: spicyR Version: 1.10.7 Command: F:\biocbuild\bbs-3.16-bioc\R\bin\R.exe CMD check --no-multiarch --install=check:spicyR.install-out.txt --library=F:\biocbuild\bbs-3.16-bioc\R\library --no-vignettes --timings spicyR_1.10.7.tar.gz StartedAt: 2023-04-11 06:20:46 -0400 (Tue, 11 Apr 2023) EndedAt: 2023-04-11 06:24:55 -0400 (Tue, 11 Apr 2023) EllapsedTime: 248.4 seconds RetCode: 0 Status: OK CheckDir: spicyR.Rcheck Warnings: 0