Package: spicyR Version: 1.10.7 Command: chmod a+r spicyR -R && F:\biocbuild\bbs-3.16-bioc\R\bin\R.exe CMD build --keep-empty-dirs --no-resave-data spicyR StartedAt: 2023-04-10 21:49:56 -0400 (Mon, 10 Apr 2023) EndedAt: 2023-04-10 21:58:40 -0400 (Mon, 10 Apr 2023) EllapsedTime: 523.9 seconds RetCode: 0 Status: OK PackageFile: spicyR_1.10.7.tar.gz PackageFileSize: 2.713 MiB