Package: sparsenetgls Version: 1.16.0 Command: /home/biocbuild/bbs-3.16-bioc/R/bin/R CMD check --install=check:sparsenetgls.install-out.txt --library=/home/biocbuild/bbs-3.16-bioc/R/site-library --timings sparsenetgls_1.16.0.tar.gz StartedAt: 2023-04-11 00:11:40 -0400 (Tue, 11 Apr 2023) EndedAt: 2023-04-11 00:16:17 -0400 (Tue, 11 Apr 2023) EllapsedTime: 276.7 seconds RetCode: 0 Status: OK CheckDir: sparsenetgls.Rcheck Warnings: 0