Package: sizepower Version: 1.68.0 Command: /home/biocbuild/bbs-3.16-bioc/R/bin/R CMD check --install=check:sizepower.install-out.txt --library=/home/biocbuild/bbs-3.16-bioc/R/site-library --timings sizepower_1.68.0.tar.gz StartedAt: 2023-04-11 00:07:04 -0400 (Tue, 11 Apr 2023) EndedAt: 2023-04-11 00:07:21 -0400 (Tue, 11 Apr 2023) EllapsedTime: 17.3 seconds RetCode: 0 Status: OK CheckDir: sizepower.Rcheck Warnings: 0