Package: signifinder Version: 1.0.0 Command: F:\biocbuild\bbs-3.16-bioc\R\bin\R.exe CMD INSTALL signifinder StartedAt: 2023-04-10 16:54:46 -0400 (Mon, 10 Apr 2023) EndedAt: 2023-04-10 16:55:34 -0400 (Mon, 10 Apr 2023) EllapsedTime: 48.3 seconds RetCode: 0 Status: OK