Package: signatureSearch Version: 1.12.0 Command: F:\biocbuild\bbs-3.16-bioc\R\bin\R.exe CMD INSTALL signatureSearch StartedAt: 2023-04-10 16:33:33 -0400 (Mon, 10 Apr 2023) EndedAt: 2023-04-10 16:36:01 -0400 (Mon, 10 Apr 2023) EllapsedTime: 148.1 seconds RetCode: 0 Status: OK