Package: signatureSearch Version: 1.12.0 Command: rm -rf signatureSearch.buildbin-libdir && mkdir signatureSearch.buildbin-libdir && F:\biocbuild\bbs-3.16-bioc\R\bin\R.exe CMD INSTALL --build --library=signatureSearch.buildbin-libdir signatureSearch_1.12.0.tar.gz StartedAt: 2023-04-11 08:47:35 -0400 (Tue, 11 Apr 2023) EndedAt: 2023-04-11 08:50:56 -0400 (Tue, 11 Apr 2023) EllapsedTime: 200.3 seconds RetCode: 0 Status: OK PackageFile: signatureSearch_1.12.0.zip PackageFileSize: 87.78 MiB