Package: seqTools Version: 1.32.0 Command: chmod a+r seqTools -R && F:\biocbuild\bbs-3.16-bioc\R\bin\R.exe CMD build --keep-empty-dirs --no-resave-data seqTools StartedAt: 2023-04-10 21:35:55 -0400 (Mon, 10 Apr 2023) EndedAt: 2023-04-10 21:36:36 -0400 (Mon, 10 Apr 2023) EllapsedTime: 41.3 seconds RetCode: 0 Status: OK PackageFile: seqTools_1.32.0.tar.gz PackageFileSize: 366.3 KiB