Package: seqTools Version: 1.32.0 Command: rm -rf seqTools.buildbin-libdir && mkdir seqTools.buildbin-libdir && F:\biocbuild\bbs-3.16-bioc\R\bin\R.exe CMD INSTALL --build --library=seqTools.buildbin-libdir seqTools_1.32.0.tar.gz StartedAt: 2023-04-11 08:46:48 -0400 (Tue, 11 Apr 2023) EndedAt: 2023-04-11 08:47:15 -0400 (Tue, 11 Apr 2023) EllapsedTime: 27.3 seconds RetCode: 0 Status: OK PackageFile: seqTools_1.32.0.zip PackageFileSize: 643.2 KiB