Package: seqArchR Version: 1.2.0 Command: /Library/Frameworks/R.framework/Resources/bin/R CMD check --install=check:seqArchR.install-out.txt --library=/Library/Frameworks/R.framework/Resources/library --no-vignettes --timings seqArchR_1.2.0.tar.gz StartedAt: 2023-04-10 22:37:28 -0400 (Mon, 10 Apr 2023) EndedAt: 2023-04-10 22:41:40 -0400 (Mon, 10 Apr 2023) EllapsedTime: 252.7 seconds RetCode: 0 Status: OK CheckDir: seqArchR.Rcheck Warnings: 0