Package: seqArchR Version: 1.2.0 Command: /Library/Frameworks/R.framework/Resources/bin/R CMD build --keep-empty-dirs --no-resave-data seqArchR StartedAt: 2023-04-10 17:59:45 -0400 (Mon, 10 Apr 2023) EndedAt: 2023-04-10 18:00:24 -0400 (Mon, 10 Apr 2023) EllapsedTime: 39.6 seconds RetCode: 0 Status: OK PackageFile: seqArchR_1.2.0.tar.gz PackageFileSize: 4.126 MiB