Package: scTreeViz Version: 1.4.0 Command: F:\biocbuild\bbs-3.16-bioc\R\bin\R.exe CMD check --no-multiarch --install=check:scTreeViz.install-out.txt --library=F:\biocbuild\bbs-3.16-bioc\R\library --no-vignettes --timings scTreeViz_1.4.0.tar.gz StartedAt: 2023-04-11 05:50:16 -0400 (Tue, 11 Apr 2023) EndedAt: 2023-04-11 05:58:20 -0400 (Tue, 11 Apr 2023) EllapsedTime: 484.0 seconds RetCode: 0 Status: OK CheckDir: scTreeViz.Rcheck Warnings: 0