Package: sangerseqR Version: 1.33.0 Command: /Library/Frameworks/R.framework/Resources/bin/R CMD INSTALL sangerseqR StartedAt: 2022-07-10 15:49:47 -0400 (Sun, 10 Jul 2022) EndedAt: 2022-07-10 15:50:18 -0400 (Sun, 10 Jul 2022) EllapsedTime: 30.8 seconds RetCode: 0 Status: OK