Package: sangeranalyseR Version: 1.8.0 Command: /Library/Frameworks/R.framework/Resources/bin/R CMD check --install=check:sangeranalyseR.install-out.txt --library=/Library/Frameworks/R.framework/Resources/library --no-vignettes --timings sangeranalyseR_1.8.0.tar.gz StartedAt: 2023-04-10 22:25:59 -0400 (Mon, 10 Apr 2023) EndedAt: 2023-04-10 22:30:37 -0400 (Mon, 10 Apr 2023) EllapsedTime: 278.3 seconds RetCode: 0 Status: WARNINGS CheckDir: sangeranalyseR.Rcheck Warnings: 7