Package: rsemmed Version: 1.8.0 Command: /Library/Frameworks/R.framework/Resources/bin/R CMD check --install=check:rsemmed.install-out.txt --library=/Library/Frameworks/R.framework/Resources/library --no-vignettes --timings rsemmed_1.8.0.tar.gz StartedAt: 2023-04-10 22:23:10 -0400 (Mon, 10 Apr 2023) EndedAt: 2023-04-10 22:23:53 -0400 (Mon, 10 Apr 2023) EllapsedTime: 42.8 seconds RetCode: 0 Status: OK CheckDir: rsemmed.Rcheck Warnings: 0