Package: roar Version: 1.34.0 Command: chmod a+r roar -R && F:\biocbuild\bbs-3.16-bioc\R\bin\R.exe CMD build --keep-empty-dirs --no-resave-data roar StartedAt: 2023-04-10 21:12:06 -0400 (Mon, 10 Apr 2023) EndedAt: 2023-04-10 21:14:05 -0400 (Mon, 10 Apr 2023) EllapsedTime: 119.0 seconds RetCode: 0 Status: OK PackageFile: roar_1.34.0.tar.gz PackageFileSize: 720.7 KiB