Package: roar Version: 1.34.0 Command: rm -rf roar.buildbin-libdir && mkdir roar.buildbin-libdir && F:\biocbuild\bbs-3.16-bioc\R\bin\R.exe CMD INSTALL --build --library=roar.buildbin-libdir roar_1.34.0.tar.gz StartedAt: 2023-04-11 08:40:37 -0400 (Tue, 11 Apr 2023) EndedAt: 2023-04-11 08:41:45 -0400 (Tue, 11 Apr 2023) EllapsedTime: 67.8 seconds RetCode: 0 Status: OK PackageFile: roar_1.34.0.zip PackageFileSize: 1.05 MiB