Package: rTRM Version: 1.36.0 Command: /home/biocbuild/bbs-3.16-bioc/R/bin/R CMD check --install=check:rTRM.install-out.txt --library=/home/biocbuild/bbs-3.16-bioc/R/site-library --timings rTRM_1.36.0.tar.gz StartedAt: 2023-04-10 23:38:22 -0400 (Mon, 10 Apr 2023) EndedAt: 2023-04-10 23:40:33 -0400 (Mon, 10 Apr 2023) EllapsedTime: 130.3 seconds RetCode: 0 Status: OK CheckDir: rTRM.Rcheck Warnings: 0