Package: rTRM Version: 1.36.0 Command: /Library/Frameworks/R.framework/Resources/bin/R CMD build --keep-empty-dirs --no-resave-data rTRM StartedAt: 2023-04-10 17:50:41 -0400 (Mon, 10 Apr 2023) EndedAt: 2023-04-10 17:51:31 -0400 (Mon, 10 Apr 2023) EllapsedTime: 49.7 seconds RetCode: 0 Status: OK PackageFile: rTRM_1.36.0.tar.gz PackageFileSize: 3.574 MiB