Package: rDGIdb Version: 1.24.0 Command: rm -rf rDGIdb.buildbin-libdir && mkdir rDGIdb.buildbin-libdir && /Users/biocbuild/BBS/utils/build-universal.sh rDGIdb_1.24.0.tar.gz /Library/Frameworks/R.framework/Resources/bin/R rDGIdb.buildbin-libdir StartedAt: 2023-04-10 23:59:27 -0400 (Mon, 10 Apr 2023) EndedAt: 2023-04-10 23:59:32 -0400 (Mon, 10 Apr 2023) EllapsedTime: 4.5 seconds RetCode: 0 Status: OK PackageFile: rDGIdb_1.24.0.tgz PackageFileSize: 228.6 KiB