Package: rCGH Version: 1.28.0 Command: /Library/Frameworks/R.framework/Resources/bin/R CMD INSTALL rCGH StartedAt: 2023-04-10 15:35:57 -0400 (Mon, 10 Apr 2023) EndedAt: 2023-04-10 15:36:51 -0400 (Mon, 10 Apr 2023) EllapsedTime: 53.5 seconds RetCode: 0 Status: OK